BEGIN:VCALENDAR
VERSION:2.0
PRODID:-//Sebastian Weigle | Dirigent - ECPv6.15.20//NONSGML v1.0//EN
CALSCALE:GREGORIAN
METHOD:PUBLISH
X-ORIGINAL-URL:https://www.sebastianweigle.com
X-WR-CALDESC:Veranstaltungen für Sebastian Weigle | Dirigent
REFRESH-INTERVAL;VALUE=DURATION:PT1H
X-Robots-Tag:noindex
X-PUBLISHED-TTL:PT1H
BEGIN:VTIMEZONE
TZID:Europe/Berlin
BEGIN:DAYLIGHT
TZOFFSETFROM:+0100
TZOFFSETTO:+0200
TZNAME:CEST
DTSTART:20250330T010000
END:DAYLIGHT
BEGIN:STANDARD
TZOFFSETFROM:+0200
TZOFFSETTO:+0100
TZNAME:CET
DTSTART:20251026T010000
END:STANDARD
BEGIN:DAYLIGHT
TZOFFSETFROM:+0100
TZOFFSETTO:+0200
TZNAME:CEST
DTSTART:20260329T010000
END:DAYLIGHT
BEGIN:STANDARD
TZOFFSETFROM:+0200
TZOFFSETTO:+0100
TZNAME:CET
DTSTART:20261025T010000
END:STANDARD
BEGIN:DAYLIGHT
TZOFFSETFROM:+0100
TZOFFSETTO:+0200
TZNAME:CEST
DTSTART:20270328T010000
END:DAYLIGHT
BEGIN:STANDARD
TZOFFSETFROM:+0200
TZOFFSETTO:+0100
TZNAME:CET
DTSTART:20271031T010000
END:STANDARD
END:VTIMEZONE
BEGIN:VEVENT
DTSTART;VALUE=DATE:20260501
DTEND;VALUE=DATE:20260502
DTSTAMP:20260419T155108
CREATED:20251008T174831Z
LAST-MODIFIED:20251008T174831Z
UID:4076-1777593600-1777679999@www.sebastianweigle.com
SUMMARY:Salome an der Wiener Staatsoper
DESCRIPTION:Richard Strauss
URL:https://www.sebastianweigle.com/event/salome-an-der-wiener-staatsoper/
CATEGORIES:Veranstaltungen
END:VEVENT
BEGIN:VEVENT
DTSTART;VALUE=DATE:20260504
DTEND;VALUE=DATE:20260505
DTSTAMP:20260419T155108
CREATED:20251008T175012Z
LAST-MODIFIED:20251008T175012Z
UID:4079-1777852800-1777939199@www.sebastianweigle.com
SUMMARY:Salome an der Wiener Staatsoper
DESCRIPTION:Richard Strauss
URL:https://www.sebastianweigle.com/event/salome-an-der-wiener-staatsoper-2/
CATEGORIES:Veranstaltungen
END:VEVENT
BEGIN:VEVENT
DTSTART;VALUE=DATE:20260506
DTEND;VALUE=DATE:20260507
DTSTAMP:20260419T155108
CREATED:20251008T175152Z
LAST-MODIFIED:20251008T175152Z
UID:4082-1778025600-1778111999@www.sebastianweigle.com
SUMMARY:Salome an der Wiener Staatsoper
DESCRIPTION:Richard Strauss
URL:https://www.sebastianweigle.com/event/salome-an-der-wiener-staatsoper-3/
CATEGORIES:Veranstaltungen
END:VEVENT
BEGIN:VEVENT
DTSTART;VALUE=DATE:20260510
DTEND;VALUE=DATE:20260511
DTSTAMP:20260419T155108
CREATED:20251008T175257Z
LAST-MODIFIED:20251008T175257Z
UID:4085-1778371200-1778457599@www.sebastianweigle.com
SUMMARY:Salome an der Wiener Staatsoper
DESCRIPTION:Richard Strauss
URL:https://www.sebastianweigle.com/event/salome-an-der-wiener-staatsoper-4/
CATEGORIES:Veranstaltungen
END:VEVENT
BEGIN:VEVENT
DTSTART;VALUE=DATE:20260518
DTEND;VALUE=DATE:20260519
DTSTAMP:20260419T155108
CREATED:20251008T175904Z
LAST-MODIFIED:20251008T175904Z
UID:4088-1779062400-1779148799@www.sebastianweigle.com
SUMMARY:Konzert mit dem Bayerischen Staatsorchester
DESCRIPTION:Werke von Modest Mussorgski\, Alexander Arutjunjan und Camille Saint-Saëns
URL:https://www.sebastianweigle.com/event/konzert-mit-dem-bayerischen-staatsorchester/
CATEGORIES:Veranstaltungen
END:VEVENT
BEGIN:VEVENT
DTSTART;VALUE=DATE:20260519
DTEND;VALUE=DATE:20260520
DTSTAMP:20260419T155108
CREATED:20251008T180044Z
LAST-MODIFIED:20251008T180044Z
UID:4091-1779148800-1779235199@www.sebastianweigle.com
SUMMARY:Konzert mit dem Bayerischen Staatsorchester
DESCRIPTION:Werke von Modest Mussorgski\, Alexander Arutjunjan und Camille Saint-Saëns
URL:https://www.sebastianweigle.com/event/konzert-mit-dem-bayerischen-staatsorchester-2/
CATEGORIES:Veranstaltungen
END:VEVENT
BEGIN:VEVENT
DTSTART;VALUE=DATE:20260529
DTEND;VALUE=DATE:20260530
DTSTAMP:20260419T155108
CREATED:20251008T180551Z
LAST-MODIFIED:20251008T180551Z
UID:4094-1780012800-1780099199@www.sebastianweigle.com
SUMMARY:Konzert mit dem Dallas Symphony Orchestra
DESCRIPTION:Werke von Erich Korngold und Antonín Dvořák
URL:https://www.sebastianweigle.com/event/konzert-mit-dem-dallas-symphony-orchestra/
CATEGORIES:Veranstaltungen
END:VEVENT
BEGIN:VEVENT
DTSTART;VALUE=DATE:20260530
DTEND;VALUE=DATE:20260531
DTSTAMP:20260419T155108
CREATED:20251008T180913Z
LAST-MODIFIED:20251008T180913Z
UID:4097-1780099200-1780185599@www.sebastianweigle.com
SUMMARY:Konzert mit dem Dallas Symphony Orchestra
DESCRIPTION:Werke von Erich Korngold und Antonín Dvořák
URL:https://www.sebastianweigle.com/event/konzert-mit-dem-dallas-symphony-orchestra-2/
CATEGORIES:Veranstaltungen
END:VEVENT
END:VCALENDAR