BEGIN:VCALENDAR
VERSION:2.0
PRODID:-//Sebastian Weigle | Dirigent - ECPv6.15.20//NONSGML v1.0//EN
CALSCALE:GREGORIAN
METHOD:PUBLISH
X-ORIGINAL-URL:https://www.sebastianweigle.com
X-WR-CALDESC:Veranstaltungen für Sebastian Weigle | Dirigent
REFRESH-INTERVAL;VALUE=DURATION:PT1H
X-Robots-Tag:noindex
X-PUBLISHED-TTL:PT1H
BEGIN:VTIMEZONE
TZID:Europe/Berlin
BEGIN:DAYLIGHT
TZOFFSETFROM:+0100
TZOFFSETTO:+0200
TZNAME:CEST
DTSTART:20230326T010000
END:DAYLIGHT
BEGIN:STANDARD
TZOFFSETFROM:+0200
TZOFFSETTO:+0100
TZNAME:CET
DTSTART:20231029T010000
END:STANDARD
BEGIN:DAYLIGHT
TZOFFSETFROM:+0100
TZOFFSETTO:+0200
TZNAME:CEST
DTSTART:20240331T010000
END:DAYLIGHT
BEGIN:STANDARD
TZOFFSETFROM:+0200
TZOFFSETTO:+0100
TZNAME:CET
DTSTART:20241027T010000
END:STANDARD
BEGIN:DAYLIGHT
TZOFFSETFROM:+0100
TZOFFSETTO:+0200
TZNAME:CEST
DTSTART:20250330T010000
END:DAYLIGHT
BEGIN:STANDARD
TZOFFSETFROM:+0200
TZOFFSETTO:+0100
TZNAME:CET
DTSTART:20251026T010000
END:STANDARD
BEGIN:DAYLIGHT
TZOFFSETFROM:+0100
TZOFFSETTO:+0200
TZNAME:CEST
DTSTART:20260329T010000
END:DAYLIGHT
BEGIN:STANDARD
TZOFFSETFROM:+0200
TZOFFSETTO:+0100
TZNAME:CET
DTSTART:20261025T010000
END:STANDARD
END:VTIMEZONE
BEGIN:VEVENT
DTSTART;VALUE=DATE:20240309
DTEND;VALUE=DATE:20240310
DTSTAMP:20260421T201214
CREATED:20230621T103035Z
LAST-MODIFIED:20230621T103035Z
UID:3761-1709942400-1710028799@www.sebastianweigle.com
SUMMARY:Pique Dame an der Deutschen Oper Berlin
DESCRIPTION:Peter I. Tschaikowski
URL:https://www.sebastianweigle.com/event/pique-dame-an-der-deutschen-oper-berlin/
LOCATION:Deutsche Oper\, Bismarckstraße 35\, Berlin\, 10627\, Deutschland
CATEGORIES:Veranstaltungen
END:VEVENT
BEGIN:VEVENT
DTSTART;VALUE=DATE:20240312
DTEND;VALUE=DATE:20240313
DTSTAMP:20260421T201214
CREATED:20230621T103138Z
LAST-MODIFIED:20230621T103138Z
UID:3764-1710201600-1710287999@www.sebastianweigle.com
SUMMARY:Pique Dame an der Deutschen Oper Berlin
DESCRIPTION:Peter I. Tschaikowski
URL:https://www.sebastianweigle.com/event/pique-dame-an-der-deutschen-oper-berlin-2/
LOCATION:Deutsche Oper\, Bismarckstraße 35\, Berlin\, 10627\, Deutschland
CATEGORIES:Veranstaltungen
END:VEVENT
BEGIN:VEVENT
DTSTART;VALUE=DATE:20240315
DTEND;VALUE=DATE:20240316
DTSTAMP:20260421T201214
CREATED:20230621T103245Z
LAST-MODIFIED:20230621T103245Z
UID:3767-1710460800-1710547199@www.sebastianweigle.com
SUMMARY:Pique Dame an der Deutschen Oper Berlin
DESCRIPTION:Peter I. Tschaikowski
URL:https://www.sebastianweigle.com/event/pique-dame-an-der-deutschen-oper-berlin-3/
LOCATION:Deutsche Oper\, Bismarckstraße 35\, Berlin\, 10627\, Deutschland
CATEGORIES:Veranstaltungen
END:VEVENT
BEGIN:VEVENT
DTSTART;VALUE=DATE:20240320
DTEND;VALUE=DATE:20240321
DTSTAMP:20260421T201214
CREATED:20230621T103401Z
LAST-MODIFIED:20230621T103401Z
UID:3770-1710892800-1710979199@www.sebastianweigle.com
SUMMARY:Pique Dame an der Deutschen Oper Berlin
DESCRIPTION:Peter I. Tschaikowski
URL:https://www.sebastianweigle.com/event/pique-dame-an-der-deutschen-oper-berlin-4/
LOCATION:Deutsche Oper\, Bismarckstraße 35\, Berlin\, 10627\, Deutschland
CATEGORIES:Veranstaltungen
END:VEVENT
BEGIN:VEVENT
DTSTART;VALUE=DATE:20240323
DTEND;VALUE=DATE:20240324
DTSTAMP:20260421T201214
CREATED:20230621T103510Z
LAST-MODIFIED:20230621T103510Z
UID:3773-1711152000-1711238399@www.sebastianweigle.com
SUMMARY:Pique Dame an der Deutschen Oper Berlin
DESCRIPTION:Peter I. Tschaikowski
URL:https://www.sebastianweigle.com/event/pique-dame-an-der-deutschen-oper-berlin-5/
LOCATION:Deutsche Oper\, Bismarckstraße 35\, Berlin\, 10627\, Deutschland
CATEGORIES:Veranstaltungen
END:VEVENT
BEGIN:VEVENT
DTSTART;VALUE=DATE:20240325
DTEND;VALUE=DATE:20250723
DTSTAMP:20260421T201214
CREATED:20240325T111903Z
LAST-MODIFIED:20240325T111903Z
UID:3883-1711324800-1753228799@www.sebastianweigle.com
SUMMARY:Die Liebe der Danae bei den Münchner Opernfestspielen
DESCRIPTION:Richard Strauss
URL:https://www.sebastianweigle.com/event/die-liebe-der-danae-bei-den-muenchner-opernfestspielen-2/
CATEGORIES:Veranstaltungen
END:VEVENT
BEGIN:VEVENT
DTSTART;VALUE=DATE:20240327
DTEND;VALUE=DATE:20240328
DTSTAMP:20260421T201214
CREATED:20230621T103629Z
LAST-MODIFIED:20230621T103629Z
UID:3776-1711497600-1711583999@www.sebastianweigle.com
SUMMARY:Pique Dame an der Deutschen Oper Berlin
DESCRIPTION:Peter I. Tschaikowski
URL:https://www.sebastianweigle.com/event/pique-dame-an-der-deutschen-oper-berlin-6/
LOCATION:Deutsche Oper\, Bismarckstraße 35\, Berlin\, 10627\, Deutschland
CATEGORIES:Veranstaltungen
END:VEVENT
END:VCALENDAR