BEGIN:VCALENDAR
VERSION:2.0
PRODID:-//Sebastian Weigle | Dirigent - ECPv6.15.20//NONSGML v1.0//EN
CALSCALE:GREGORIAN
METHOD:PUBLISH
X-WR-CALNAME:Sebastian Weigle | Dirigent
X-ORIGINAL-URL:https://www.sebastianweigle.com
X-WR-CALDESC:Veranstaltungen für Sebastian Weigle | Dirigent
REFRESH-INTERVAL;VALUE=DURATION:PT1H
X-Robots-Tag:noindex
X-PUBLISHED-TTL:PT1H
BEGIN:VTIMEZONE
TZID:Europe/Berlin
BEGIN:DAYLIGHT
TZOFFSETFROM:+0100
TZOFFSETTO:+0200
TZNAME:CEST
DTSTART:20220327T010000
END:DAYLIGHT
BEGIN:STANDARD
TZOFFSETFROM:+0200
TZOFFSETTO:+0100
TZNAME:CET
DTSTART:20221030T010000
END:STANDARD
BEGIN:DAYLIGHT
TZOFFSETFROM:+0100
TZOFFSETTO:+0200
TZNAME:CEST
DTSTART:20230326T010000
END:DAYLIGHT
BEGIN:STANDARD
TZOFFSETFROM:+0200
TZOFFSETTO:+0100
TZNAME:CET
DTSTART:20231029T010000
END:STANDARD
BEGIN:DAYLIGHT
TZOFFSETFROM:+0100
TZOFFSETTO:+0200
TZNAME:CEST
DTSTART:20240331T010000
END:DAYLIGHT
BEGIN:STANDARD
TZOFFSETFROM:+0200
TZOFFSETTO:+0100
TZNAME:CET
DTSTART:20241027T010000
END:STANDARD
END:VTIMEZONE
BEGIN:VEVENT
DTSTART;VALUE=DATE:20231006
DTEND;VALUE=DATE:20231007
DTSTAMP:20260422T032656
CREATED:20230612T145045Z
LAST-MODIFIED:20230616T121319Z
UID:3711-1696550400-1696636799@www.sebastianweigle.com
SUMMARY:Konzert mit Copenhagen Phil
DESCRIPTION:Robert Schumann\, Clara Schumann\, Johannes Brahms
URL:https://www.sebastianweigle.com/event/sinfoniekonzert-mit-dem-copenhagen-phil/
CATEGORIES:Veranstaltungen
END:VEVENT
BEGIN:VEVENT
DTSTART;VALUE=DATE:20231017
DTEND;VALUE=DATE:20231018
DTSTAMP:20260422T032656
CREATED:20230616T123102Z
LAST-MODIFIED:20230616T123102Z
UID:3724-1697500800-1697587199@www.sebastianweigle.com
SUMMARY:Konzert mit dem Yomiuri Nippon Symphony Orchestra
DESCRIPTION:Paul Hindemith\, Hanns Eisler
URL:https://www.sebastianweigle.com/event/konzert-mit-dem-yomiuri-nippon-symphony-orchestra-29/
LOCATION:Suntory Hall Tokyo
CATEGORIES:Veranstaltungen
END:VEVENT
BEGIN:VEVENT
DTSTART;VALUE=DATE:20231021
DTEND;VALUE=DATE:20231022
DTSTAMP:20260422T032656
CREATED:20230616T123305Z
LAST-MODIFIED:20230616T123305Z
UID:3727-1697846400-1697932799@www.sebastianweigle.com
SUMMARY:Konzert mit dem Yomiuri Nippon Symphony Orchestra
DESCRIPTION:Ludwig van Beethoven\, Edvard Grieg\, Manuel de Falla
URL:https://www.sebastianweigle.com/event/konzert-mit-dem-yomiuri-nippon-symphony-orchestra-30/
LOCATION:Tokyo Metropolitan Theatre
CATEGORIES:Veranstaltungen
END:VEVENT
BEGIN:VEVENT
DTSTART;VALUE=DATE:20231022
DTEND;VALUE=DATE:20231023
DTSTAMP:20260422T032656
CREATED:20230616T123508Z
LAST-MODIFIED:20230616T123508Z
UID:3730-1697932800-1698019199@www.sebastianweigle.com
SUMMARY:Konzert mit dem Yomiuri Nippon Symphony Orchestra
DESCRIPTION:Ludwig van Beethoven\, Edvard Grieg\, Manuel de Falla
URL:https://www.sebastianweigle.com/event/konzert-mit-dem-yomiuri-nippon-symphony-orchestra-31/
LOCATION:Tokyo Metropolitan Theatre
CATEGORIES:Veranstaltungen
END:VEVENT
BEGIN:VEVENT
DTSTART;VALUE=DATE:20231027
DTEND;VALUE=DATE:20231028
DTSTAMP:20260422T032656
CREATED:20230616T123922Z
LAST-MODIFIED:20230616T123922Z
UID:3733-1698364800-1698451199@www.sebastianweigle.com
SUMMARY:Konzert mit dem Yomiuri Nippon Symphony Orchestra
DESCRIPTION:Sergei Prokofjew\, Aram Khachaturian\, Igor Stravinsky
URL:https://www.sebastianweigle.com/event/konzert-mit-dem-yomiuri-nippon-symphony-orchestra-32/
LOCATION:Suntory Hall Tokyo
CATEGORIES:Veranstaltungen
END:VEVENT
BEGIN:VEVENT
DTSTART;VALUE=DATE:20231029
DTEND;VALUE=DATE:20231030
DTSTAMP:20260422T032656
CREATED:20230616T124053Z
LAST-MODIFIED:20230616T124053Z
UID:3736-1698537600-1698623999@www.sebastianweigle.com
SUMMARY:Konzert mit dem Yomiuri Nippon Symphony Orchestra
DESCRIPTION:Sergei Prokofjew\, Aram Khachaturian\, Igor Stravinsky
URL:https://www.sebastianweigle.com/event/konzert-mit-dem-yomiuri-nippon-symphony-orchestra-33/
CATEGORIES:Veranstaltungen
END:VEVENT
END:VCALENDAR