BEGIN:VCALENDAR
VERSION:2.0
PRODID:-//Sebastian Weigle | Dirigent - ECPv6.15.20//NONSGML v1.0//EN
CALSCALE:GREGORIAN
METHOD:PUBLISH
X-ORIGINAL-URL:https://www.sebastianweigle.com
X-WR-CALDESC:Veranstaltungen für Sebastian Weigle | Dirigent
REFRESH-INTERVAL;VALUE=DURATION:PT1H
X-Robots-Tag:noindex
X-PUBLISHED-TTL:PT1H
BEGIN:VTIMEZONE
TZID:Europe/Berlin
BEGIN:DAYLIGHT
TZOFFSETFROM:+0100
TZOFFSETTO:+0200
TZNAME:CEST
DTSTART:20220327T010000
END:DAYLIGHT
BEGIN:STANDARD
TZOFFSETFROM:+0200
TZOFFSETTO:+0100
TZNAME:CET
DTSTART:20221030T010000
END:STANDARD
BEGIN:DAYLIGHT
TZOFFSETFROM:+0100
TZOFFSETTO:+0200
TZNAME:CEST
DTSTART:20230326T010000
END:DAYLIGHT
BEGIN:STANDARD
TZOFFSETFROM:+0200
TZOFFSETTO:+0100
TZNAME:CET
DTSTART:20231029T010000
END:STANDARD
BEGIN:DAYLIGHT
TZOFFSETFROM:+0100
TZOFFSETTO:+0200
TZNAME:CEST
DTSTART:20240331T010000
END:DAYLIGHT
BEGIN:STANDARD
TZOFFSETFROM:+0200
TZOFFSETTO:+0100
TZNAME:CET
DTSTART:20241027T010000
END:STANDARD
END:VTIMEZONE
BEGIN:VEVENT
DTSTART;VALUE=DATE:20230912
DTEND;VALUE=DATE:20230913
DTSTAMP:20260422T051020
CREATED:20230612T122744Z
LAST-MODIFIED:20230612T122744Z
UID:3694-1694476800-1694563199@www.sebastianweigle.com
SUMMARY:Daphne an der Wiener Staatsoper
DESCRIPTION:Richard Strauss
URL:https://www.sebastianweigle.com/event/daphne-an-der-wiener-staatsoper/
LOCATION:Wiener Staatsoper
CATEGORIES:Veranstaltungen
END:VEVENT
BEGIN:VEVENT
DTSTART;VALUE=DATE:20230915
DTEND;VALUE=DATE:20230916
DTSTAMP:20260422T051020
CREATED:20230612T123023Z
LAST-MODIFIED:20230612T123023Z
UID:3697-1694736000-1694822399@www.sebastianweigle.com
SUMMARY:Daphne an der Wiener Staatsoper
DESCRIPTION:Richard Strauss
URL:https://www.sebastianweigle.com/event/daphne-an-der-wiener-staatsoper-2/
LOCATION:Wiener Staatsoper
CATEGORIES:Veranstaltungen
END:VEVENT
BEGIN:VEVENT
DTSTART;VALUE=DATE:20230918
DTEND;VALUE=DATE:20230919
DTSTAMP:20260422T051020
CREATED:20230612T123128Z
LAST-MODIFIED:20230612T123128Z
UID:3700-1694995200-1695081599@www.sebastianweigle.com
SUMMARY:Daphne an der Wiener Staatsoper
DESCRIPTION:Richard Strauss
URL:https://www.sebastianweigle.com/event/daphne-an-der-wiener-staatsoper-3/
LOCATION:Wiener Staatsoper
CATEGORIES:Veranstaltungen
END:VEVENT
BEGIN:VEVENT
DTSTART;VALUE=DATE:20230921
DTEND;VALUE=DATE:20230922
DTSTAMP:20260422T051020
CREATED:20230612T123223Z
LAST-MODIFIED:20230612T123223Z
UID:3703-1695254400-1695340799@www.sebastianweigle.com
SUMMARY:Daphne an der Wiener Staatsoper
DESCRIPTION:Richard Strauss
URL:https://www.sebastianweigle.com/event/daphne-an-der-wiener-staatsoper-4/
LOCATION:Wiener Staatsoper
CATEGORIES:Veranstaltungen
END:VEVENT
BEGIN:VEVENT
DTSTART;VALUE=DATE:20230928
DTEND;VALUE=DATE:20230929
DTSTAMP:20260422T051020
CREATED:20230612T123644Z
LAST-MODIFIED:20230612T123644Z
UID:3708-1695859200-1695945599@www.sebastianweigle.com
SUMMARY:Das Lied von der Erde mit dem Bergen Philharmonic Orchestra
DESCRIPTION:Gustav Mahler
URL:https://www.sebastianweigle.com/event/das-lied-von-der-erde-mit-dem-bergen-philharmonic-orchestra/
CATEGORIES:Veranstaltungen
END:VEVENT
END:VCALENDAR