BEGIN:VCALENDAR
VERSION:2.0
PRODID:-//Sebastian Weigle | Dirigent - ECPv6.15.20//NONSGML v1.0//EN
CALSCALE:GREGORIAN
METHOD:PUBLISH
X-WR-CALNAME:Sebastian Weigle | Dirigent
X-ORIGINAL-URL:https://www.sebastianweigle.com
X-WR-CALDESC:Veranstaltungen für Sebastian Weigle | Dirigent
REFRESH-INTERVAL;VALUE=DURATION:PT1H
X-Robots-Tag:noindex
X-PUBLISHED-TTL:PT1H
BEGIN:VTIMEZONE
TZID:Europe/Berlin
BEGIN:DAYLIGHT
TZOFFSETFROM:+0100
TZOFFSETTO:+0200
TZNAME:CEST
DTSTART:20220327T010000
END:DAYLIGHT
BEGIN:STANDARD
TZOFFSETFROM:+0200
TZOFFSETTO:+0100
TZNAME:CET
DTSTART:20221030T010000
END:STANDARD
BEGIN:DAYLIGHT
TZOFFSETFROM:+0100
TZOFFSETTO:+0200
TZNAME:CEST
DTSTART:20230326T010000
END:DAYLIGHT
BEGIN:STANDARD
TZOFFSETFROM:+0200
TZOFFSETTO:+0100
TZNAME:CET
DTSTART:20231029T010000
END:STANDARD
BEGIN:DAYLIGHT
TZOFFSETFROM:+0100
TZOFFSETTO:+0200
TZNAME:CEST
DTSTART:20240331T010000
END:DAYLIGHT
BEGIN:STANDARD
TZOFFSETFROM:+0200
TZOFFSETTO:+0100
TZNAME:CET
DTSTART:20241027T010000
END:STANDARD
END:VTIMEZONE
BEGIN:VEVENT
DTSTART;VALUE=DATE:20230801
DTEND;VALUE=DATE:20230802
DTSTAMP:20260422T065511
CREATED:20230616T122832Z
LAST-MODIFIED:20230616T122832Z
UID:3721-1690848000-1690934399@www.sebastianweigle.com
SUMMARY:Konzert mit dem Yomiuri Nippon Symphony Orchestra
DESCRIPTION:Ludwig van Beethoven\, Richard Wagner
URL:https://www.sebastianweigle.com/event/konzert-mit-dem-yomiuri-nippon-symphony-orchestra-28/
CATEGORIES:Veranstaltungen
END:VEVENT
END:VCALENDAR