BEGIN:VCALENDAR
VERSION:2.0
PRODID:-//Sebastian Weigle | Dirigent - ECPv6.15.20//NONSGML v1.0//EN
CALSCALE:GREGORIAN
METHOD:PUBLISH
X-ORIGINAL-URL:https://www.sebastianweigle.com
X-WR-CALDESC:Veranstaltungen für Sebastian Weigle | Dirigent
REFRESH-INTERVAL;VALUE=DURATION:PT1H
X-Robots-Tag:noindex
X-PUBLISHED-TTL:PT1H
BEGIN:VTIMEZONE
TZID:Europe/Berlin
BEGIN:DAYLIGHT
TZOFFSETFROM:+0100
TZOFFSETTO:+0200
TZNAME:CEST
DTSTART:20210328T010000
END:DAYLIGHT
BEGIN:STANDARD
TZOFFSETFROM:+0200
TZOFFSETTO:+0100
TZNAME:CET
DTSTART:20211031T010000
END:STANDARD
BEGIN:DAYLIGHT
TZOFFSETFROM:+0100
TZOFFSETTO:+0200
TZNAME:CEST
DTSTART:20220327T010000
END:DAYLIGHT
BEGIN:STANDARD
TZOFFSETFROM:+0200
TZOFFSETTO:+0100
TZNAME:CET
DTSTART:20221030T010000
END:STANDARD
BEGIN:DAYLIGHT
TZOFFSETFROM:+0100
TZOFFSETTO:+0200
TZNAME:CEST
DTSTART:20230326T010000
END:DAYLIGHT
BEGIN:STANDARD
TZOFFSETFROM:+0200
TZOFFSETTO:+0100
TZNAME:CET
DTSTART:20231029T010000
END:STANDARD
END:VTIMEZONE
BEGIN:VEVENT
DTSTART;VALUE=DATE:20220910
DTEND;VALUE=DATE:20220911
DTSTAMP:20260423T010207
CREATED:20220406T132836Z
LAST-MODIFIED:20220406T132836Z
UID:3471-1662768000-1662854399@www.sebastianweigle.com
SUMMARY:Konzert mit dem Yomiuri Nippon Symphony Orchestra
DESCRIPTION:Werke von Emil Nikolaus von Reznicek\, Ludwig van Beethoven und Richard Strauss
URL:https://www.sebastianweigle.com/event/konzert-mit-dem-yomiuri-nippon-symphony-orchestra-18/
CATEGORIES:Veranstaltungen
END:VEVENT
BEGIN:VEVENT
DTSTART;VALUE=DATE:20220911
DTEND;VALUE=DATE:20220912
DTSTAMP:20260423T010207
CREATED:20220406T133022Z
LAST-MODIFIED:20220406T133307Z
UID:3474-1662854400-1662940799@www.sebastianweigle.com
SUMMARY:Konzert mit dem Yomiuri Nippon Symphony Orchestra
DESCRIPTION:Werke von Emil Nikolaus von Reznicek\, Ludwig van Beethoven und Richard Strauss
URL:https://www.sebastianweigle.com/event/konzert-mit-dem-yomiuri-nippon-symphony-orchestra-23/
CATEGORIES:Veranstaltungen
END:VEVENT
BEGIN:VEVENT
DTSTART;VALUE=DATE:20220912
DTEND;VALUE=DATE:20220913
DTSTAMP:20260423T010207
CREATED:20220406T133211Z
LAST-MODIFIED:20220406T133211Z
UID:3477-1662940800-1663027199@www.sebastianweigle.com
SUMMARY:Konzert mit dem Yomiuri Nippon Symphony Orchestra
DESCRIPTION:Werke von Emil Nikolaus von Reznicek\, Ludwig van Beethoven und Richard Strauss
URL:https://www.sebastianweigle.com/event/konzert-mit-dem-yomiuri-nippon-symphony-orchestra-24/
CATEGORIES:Veranstaltungen
END:VEVENT
BEGIN:VEVENT
DTSTART;VALUE=DATE:20220914
DTEND;VALUE=DATE:20220915
DTSTAMP:20260423T010207
CREATED:20220406T132548Z
LAST-MODIFIED:20220406T132548Z
UID:3468-1663113600-1663199999@www.sebastianweigle.com
SUMMARY:Konzert mit dem Yomiuri Nippon Symphony Orchestra
DESCRIPTION:Werke von Emil Nikolaus von Reznicek\, Ludwig van Beethoven und Richard Strauss
URL:https://www.sebastianweigle.com/event/konzert-mit-dem-yomiuri-nippon-symphony-orchestra-22/
LOCATION:Suntory Hall Tokyo
CATEGORIES:Veranstaltungen
END:VEVENT
BEGIN:VEVENT
DTSTART;VALUE=DATE:20220920
DTEND;VALUE=DATE:20220921
DTSTAMP:20260423T010207
CREATED:20220406T125932Z
LAST-MODIFIED:20220406T125932Z
UID:3450-1663632000-1663718399@www.sebastianweigle.com
SUMMARY:Konzert mit dem Yomiuri Nippon Symphony Orchestra
DESCRIPTION:Werke von Daniel Schnyder und Johannes Brahms
URL:https://www.sebastianweigle.com/event/konzert-mit-dem-yomiuri-nippon-symphony-orchestra-17/
LOCATION:Suntory Hall Tokyo
CATEGORIES:Veranstaltungen
END:VEVENT
BEGIN:VEVENT
DTSTART;VALUE=DATE:20220924
DTEND;VALUE=DATE:20220925
DTSTAMP:20260423T010207
CREATED:20220406T131404Z
LAST-MODIFIED:20220406T131404Z
UID:3461-1663977600-1664063999@www.sebastianweigle.com
SUMMARY:Konzert mit dem Yomiuri Nippon Symphony Orchestra
DESCRIPTION:Werke von Michail Glinka\, Sergei Rachmaninow und Nikolai Rimski-Korsakow
URL:https://www.sebastianweigle.com/event/konzert-mit-dem-yomiuri-nippon-symphony-orchestra-20/
LOCATION:Tokyo Metropolitan Theatre
CATEGORIES:Veranstaltungen
END:VEVENT
BEGIN:VEVENT
DTSTART;VALUE=DATE:20220925
DTEND;VALUE=DATE:20220926
DTSTAMP:20260423T010207
CREATED:20220406T131620Z
LAST-MODIFIED:20220406T131620Z
UID:3465-1664064000-1664150399@www.sebastianweigle.com
SUMMARY:Konzert mit dem Yomiuri Nippon Symphony Orchestra
DESCRIPTION:Werke von Michail Glinka\, Sergei Rachmaninow und Nikolai Rimski-Korsakow
URL:https://www.sebastianweigle.com/event/konzert-mit-dem-yomiuri-nippon-symphony-orchestra-21/
LOCATION:Tokyo Metropolitan Theatre
CATEGORIES:Veranstaltungen
END:VEVENT
END:VCALENDAR