BEGIN:VCALENDAR
VERSION:2.0
PRODID:-//Sebastian Weigle | Dirigent - ECPv6.15.20//NONSGML v1.0//EN
CALSCALE:GREGORIAN
METHOD:PUBLISH
X-WR-CALNAME:Sebastian Weigle | Dirigent
X-ORIGINAL-URL:https://www.sebastianweigle.com
X-WR-CALDESC:Veranstaltungen für Sebastian Weigle | Dirigent
REFRESH-INTERVAL;VALUE=DURATION:PT1H
X-Robots-Tag:noindex
X-PUBLISHED-TTL:PT1H
BEGIN:VTIMEZONE
TZID:Europe/Berlin
BEGIN:DAYLIGHT
TZOFFSETFROM:+0100
TZOFFSETTO:+0200
TZNAME:CEST
DTSTART:20210328T010000
END:DAYLIGHT
BEGIN:STANDARD
TZOFFSETFROM:+0200
TZOFFSETTO:+0100
TZNAME:CET
DTSTART:20211031T010000
END:STANDARD
BEGIN:DAYLIGHT
TZOFFSETFROM:+0100
TZOFFSETTO:+0200
TZNAME:CEST
DTSTART:20220327T010000
END:DAYLIGHT
BEGIN:STANDARD
TZOFFSETFROM:+0200
TZOFFSETTO:+0100
TZNAME:CET
DTSTART:20221030T010000
END:STANDARD
BEGIN:DAYLIGHT
TZOFFSETFROM:+0100
TZOFFSETTO:+0200
TZNAME:CEST
DTSTART:20230326T010000
END:DAYLIGHT
BEGIN:STANDARD
TZOFFSETFROM:+0200
TZOFFSETTO:+0100
TZNAME:CET
DTSTART:20231029T010000
END:STANDARD
END:VTIMEZONE
BEGIN:VEVENT
DTSTART;VALUE=DATE:20220609
DTEND;VALUE=DATE:20220610
DTSTAMP:20260423T053454
CREATED:20220406T130837Z
LAST-MODIFIED:20220406T130837Z
UID:3456-1654732800-1654819199@www.sebastianweigle.com
SUMMARY:Konzert mit dem Yomiuri Nippon Symphony Orchestra
DESCRIPTION:Werke von Peter I. Tschaikowski und Modest Mussorgsky
URL:https://www.sebastianweigle.com/event/konzert-mit-dem-yomiuri-nippon-symphony-orchestra-19/
LOCATION:Muza Kawasaki Symphony Hall
CATEGORIES:Veranstaltungen
END:VEVENT
BEGIN:VEVENT
DTSTART;VALUE=DATE:20220616
DTEND;VALUE=DATE:20220617
DTSTAMP:20260423T053454
CREATED:20220330T091007Z
LAST-MODIFIED:20220330T091007Z
UID:3423-1655337600-1655423999@www.sebastianweigle.com
SUMMARY:Konzert mit dem Yomiuri Nippon Symphony Orchestra
DESCRIPTION:Werke von Antonín Dvořák und W.A. Mozart
URL:https://www.sebastianweigle.com/event/konzert-mit-dem-yomiuri-nippon-symphony-orchestra-11/
LOCATION:Suntory Hall Tokyo
CATEGORIES:Veranstaltungen
END:VEVENT
BEGIN:VEVENT
DTSTART;VALUE=DATE:20220621
DTEND;VALUE=DATE:20220622
DTSTAMP:20260423T053454
CREATED:20220330T091416Z
LAST-MODIFIED:20220330T091457Z
UID:3427-1655769600-1655855999@www.sebastianweigle.com
SUMMARY:Konzert mit dem Yomiuri Nippon Symphony Orchestra
DESCRIPTION:Werke von Rudi Stephan und Anton Bruckner
URL:https://www.sebastianweigle.com/event/konzert-mit-dem-yomiuri-nippon-symphony-orchestra-14/
LOCATION:Suntory Hall Tokyo
CATEGORIES:Veranstaltungen
END:VEVENT
BEGIN:VEVENT
DTSTART;VALUE=DATE:20220625
DTEND;VALUE=DATE:20220626
DTSTAMP:20260423T053454
CREATED:20220406T115600Z
LAST-MODIFIED:20220406T115600Z
UID:3430-1656115200-1656201599@www.sebastianweigle.com
SUMMARY:Konzert mit dem Yomiuri Nippon Symphony Orchestra
DESCRIPTION:Werke von Richard Wagner\, W.A. Mozart und Ludwig van Beethoven
URL:https://www.sebastianweigle.com/event/konzert-mit-dem-yomiuri-nippon-symphony-orchestra-15/
LOCATION:Tokyo Metropolitan Theatre
CATEGORIES:Veranstaltungen
END:VEVENT
BEGIN:VEVENT
DTSTART;VALUE=DATE:20220626
DTEND;VALUE=DATE:20220627
DTSTAMP:20260423T053454
CREATED:20220406T115928Z
LAST-MODIFIED:20220406T115928Z
UID:3434-1656201600-1656287999@www.sebastianweigle.com
SUMMARY:Konzert mit dem Yomiuri Nippon Symphony Orchestra
DESCRIPTION:Werke von Richard Wagner\, W.A. Mozart und Ludwig van Beethoven
URL:https://www.sebastianweigle.com/event/konzert-mit-dem-yomiuri-nippon-symphony-orchestra-16/
LOCATION:Tokyo Metropolitan Theatre
CATEGORIES:Veranstaltungen
END:VEVENT
END:VCALENDAR