BEGIN:VCALENDAR
VERSION:2.0
PRODID:-//Sebastian Weigle | Dirigent - ECPv6.15.20//NONSGML v1.0//EN
CALSCALE:GREGORIAN
METHOD:PUBLISH
X-WR-CALNAME:Sebastian Weigle | Dirigent
X-ORIGINAL-URL:https://www.sebastianweigle.com
X-WR-CALDESC:Veranstaltungen für Sebastian Weigle | Dirigent
REFRESH-INTERVAL;VALUE=DURATION:PT1H
X-Robots-Tag:noindex
X-PUBLISHED-TTL:PT1H
BEGIN:VTIMEZONE
TZID:Europe/Berlin
BEGIN:DAYLIGHT
TZOFFSETFROM:+0100
TZOFFSETTO:+0200
TZNAME:CEST
DTSTART:20250330T010000
END:DAYLIGHT
BEGIN:STANDARD
TZOFFSETFROM:+0200
TZOFFSETTO:+0100
TZNAME:CET
DTSTART:20251026T010000
END:STANDARD
BEGIN:DAYLIGHT
TZOFFSETFROM:+0100
TZOFFSETTO:+0200
TZNAME:CEST
DTSTART:20260329T010000
END:DAYLIGHT
BEGIN:STANDARD
TZOFFSETFROM:+0200
TZOFFSETTO:+0100
TZNAME:CET
DTSTART:20261025T010000
END:STANDARD
BEGIN:DAYLIGHT
TZOFFSETFROM:+0100
TZOFFSETTO:+0200
TZNAME:CEST
DTSTART:20270328T010000
END:DAYLIGHT
BEGIN:STANDARD
TZOFFSETFROM:+0200
TZOFFSETTO:+0100
TZNAME:CET
DTSTART:20271031T010000
END:STANDARD
END:VTIMEZONE
BEGIN:VEVENT
DTSTART;VALUE=DATE:20261113
DTEND;VALUE=DATE:20261114
DTSTAMP:20260419T224453
CREATED:20260304T130022Z
LAST-MODIFIED:20260304T130022Z
UID:4141-1794528000-1794614399@www.sebastianweigle.com
SUMMARY:Die Hochzeit des Figaro an der San Francisco Opera
DESCRIPTION:Wolfgang Amadeus Mozart
URL:https://www.sebastianweigle.com/event/die-hochzeit-des-figaro-an-der-san-francisco-opera-5/
CATEGORIES:Veranstaltungen
END:VEVENT
END:VCALENDAR